BEGIN:VCALENDAR
VERSION:2.0
PRODID:-//Walnut Community Bible Church - ECPv6.15.20//NONSGML v1.0//EN
CALSCALE:GREGORIAN
METHOD:PUBLISH
X-WR-CALNAME:Walnut Community Bible Church
X-ORIGINAL-URL:https://walnutcommunitybiblechurch.org
X-WR-CALDESC:Events for Walnut Community Bible Church
REFRESH-INTERVAL;VALUE=DURATION:PT1H
X-Robots-Tag:noindex
X-PUBLISHED-TTL:PT1H
BEGIN:VTIMEZONE
TZID:America/Chicago
BEGIN:DAYLIGHT
TZOFFSETFROM:-0600
TZOFFSETTO:-0500
TZNAME:CDT
DTSTART:20250309T080000
END:DAYLIGHT
BEGIN:STANDARD
TZOFFSETFROM:-0500
TZOFFSETTO:-0600
TZNAME:CST
DTSTART:20251102T070000
END:STANDARD
BEGIN:DAYLIGHT
TZOFFSETFROM:-0600
TZOFFSETTO:-0500
TZNAME:CDT
DTSTART:20260308T080000
END:DAYLIGHT
BEGIN:STANDARD
TZOFFSETFROM:-0500
TZOFFSETTO:-0600
TZNAME:CST
DTSTART:20261101T070000
END:STANDARD
BEGIN:DAYLIGHT
TZOFFSETFROM:-0600
TZOFFSETTO:-0500
TZNAME:CDT
DTSTART:20270314T080000
END:DAYLIGHT
BEGIN:STANDARD
TZOFFSETFROM:-0500
TZOFFSETTO:-0600
TZNAME:CST
DTSTART:20271107T070000
END:STANDARD
END:VTIMEZONE
BEGIN:VTIMEZONE
TZID:UTC
BEGIN:STANDARD
TZOFFSETFROM:+0000
TZOFFSETTO:+0000
TZNAME:UTC
DTSTART:20250101T000000
END:STANDARD
END:VTIMEZONE
BEGIN:VEVENT
DTSTART;TZID=America/Chicago:20260425T080000
DTEND;TZID=America/Chicago:20260425T100000
DTSTAMP:20260425T074938
CREATED:20260328T155359Z
LAST-MODIFIED:20260328T155359Z
UID:71684-1777104000-1777111200@walnutcommunitybiblechurch.org
SUMMARY:Missions Meeting!
DESCRIPTION:
URL:https://walnutcommunitybiblechurch.org/event/missions-meeting-2/
LOCATION:Walnut Community Bible Church\, 125 Jackson Street\, Walnut\, IL\, 61376\, United States
END:VEVENT
BEGIN:VEVENT
DTSTART;TZID=America/Chicago:20260426T133000
DTEND;TZID=America/Chicago:20260426T143000
DTSTAMP:20260425T074938
CREATED:20260328T155647Z
LAST-MODIFIED:20260328T155647Z
UID:71693-1777210200-1777213800@walnutcommunitybiblechurch.org
SUMMARY:Sign Language Class!
DESCRIPTION:
URL:https://walnutcommunitybiblechurch.org/event/sign-language-class-2/
LOCATION:Walnut Community Bible Church\, 125 Jackson Street\, Walnut\, IL\, 61376\, United States
END:VEVENT
BEGIN:VEVENT
DTSTART;TZID=UTC:20260427T190000
DTEND;TZID=UTC:20260427T210000
DTSTAMP:20260425T074938
CREATED:20260328T155137Z
LAST-MODIFIED:20260328T155137Z
UID:71678-1777316400-1777323600@walnutcommunitybiblechurch.org
SUMMARY:Mens Open Gym Basketball
DESCRIPTION:
URL:https://walnutcommunitybiblechurch.org/event/mens-open-gym-basketball-9/
LOCATION:The Rock\, 127 Jackson Street\, Walnut\, IL\, 61376\, United States
CATEGORIES:The Rock
END:VEVENT
BEGIN:VEVENT
DTSTART;TZID=America/Chicago:20260428T153000
DTEND;TZID=America/Chicago:20260428T170000
DTSTAMP:20260425T074938
CREATED:20260328T155435Z
LAST-MODIFIED:20260328T155435Z
UID:71686-1777390200-1777395600@walnutcommunitybiblechurch.org
SUMMARY:Education Meeting!
DESCRIPTION:
URL:https://walnutcommunitybiblechurch.org/event/education-meeting/
LOCATION:Walnut Community Bible Church\, 125 Jackson Street\, Walnut\, IL\, 61376\, United States
END:VEVENT
BEGIN:VEVENT
DTSTART;TZID=America/Chicago:20260429T183000
DTEND;TZID=America/Chicago:20260429T200000
DTSTAMP:20260425T074938
CREATED:20260328T151832Z
LAST-MODIFIED:20260328T151832Z
UID:71650-1777487400-1777492800@walnutcommunitybiblechurch.org
SUMMARY:LAST F3!
DESCRIPTION:
URL:https://walnutcommunitybiblechurch.org/event/last-f3/
LOCATION:The Rock\, 127 Jackson Street\, Walnut\, IL\, 61376\, United States
CATEGORIES:The Rock
END:VEVENT
BEGIN:VEVENT
DTSTART;TZID=America/Chicago:20260429T190000
DTEND;TZID=America/Chicago:20260429T203000
DTSTAMP:20260425T074938
CREATED:20260328T152215Z
LAST-MODIFIED:20260328T152215Z
UID:71658-1777489200-1777494600@walnutcommunitybiblechurch.org
SUMMARY:Worship Team practice!
DESCRIPTION:
URL:https://walnutcommunitybiblechurch.org/event/worship-team-practice-5/
LOCATION:Walnut Community Bible Church\, 125 Jackson Street\, Walnut\, IL\, 61376\, United States
CATEGORIES:The Rock
END:VEVENT
END:VCALENDAR